BEGIN:VCALENDAR
VERSION:2.0
PRODID:www.gruene-gifhorn.de
METHOD:PUBLISH
BEGIN:VTIMEZONE
TZID:Europe/Berlin
X-LIC-LOCATION:Europe/Berlin
BEGIN:DAYLIGHT
TZOFFSETFROM:+0100
TZOFFSETTO:+0200
TZNAME:CEST
DTSTART:19700329T020000
RRULE:FREQ=YEARLY;INTERVAL=1;BYDAY=-1SU;BYMONTH=3
END:DAYLIGHT
BEGIN:STANDARD
TZOFFSETFROM:+0200
TZOFFSETTO:+0100
TZNAME:CET
DTSTART:19701025T030000
RRULE:FREQ=YEARLY;INTERVAL=1;BYDAY=-1SU;BYMONTH=10
END:STANDARD
END:VTIMEZONE
BEGIN:VEVENT
UID:246db75e05ee37ed9253d83cf0e9f0ee@www.gruene-gifhorn.de
URL;VALUE=URI:https://www.gruene-gifhorn.de/termine/landesdelegiertenkonf
 erenz-ldk/
LOCATION:Emden
SUMMARY:Landesdelegiertenkonferenz (LDK)
DESCRIPTION;ALTREP="data:text/html,%3Cp%3E%3C%2Fp%3E":
CLASS:PUBLIC
DTSTART;TZID=Europe/Berlin:20260425
DTEND;TZID=Europe/Berlin:20260427
DTSTAMP:20260420T024301
END:VEVENT
END:VCALENDAR